{
 "currentVersion": 10.61,
 "serviceDescription": "2016 Aerial for Pinellas County",
 "name": "ArcGISImageServices/Pinellas_NAD83_2016",
 "description": "2016 Aerial for Pinellas County",
 "extent": {
  "xmin": 375000,
  "ymin": 1175000,
  "xmax": 475000,
  "ymax": 1400000,
  "spatialReference": {
   "wkid": 103023,
   "latestWkid": 6443
  }
 },
 "initialExtent": {
  "xmin": 375000,
  "ymin": 1175000,
  "xmax": 475000,
  "ymax": 1400000,
  "spatialReference": {
   "wkid": 103023,
   "latestWkid": 6443
  }
 },
 "fullExtent": {
  "xmin": 375000,
  "ymin": 1175000,
  "xmax": 475000,
  "ymax": 1400000,
  "spatialReference": {
   "wkid": 103023,
   "latestWkid": 6443
  }
 },
 "pixelSizeX": 0.5,
 "pixelSizeY": 0.5,
 "bandCount": 3,
 "pixelType": "U8",
 "minPixelSize": 0,
 "maxPixelSize": 0,
 "copyrightText": "City of Clearwater",
 "serviceDataType": "esriImageServiceDataTypeRGB",
 "minValues": [
  0,
  41,
  0
 ],
 "maxValues": [
  255,
  255,
  255
 ],
 "meanValues": [
  170.12411873840463,
  175.75565862708743,
  155.69146567718005
 ],
 "stdvValues": [
  71.41770302322742,
  66.6278830944093,
  82.44804504199571
 ],
 "objectIdField": "",
 "fields": [],
 "capabilities": "Mensuration,Image,Metadata",
 "defaultMosaicMethod": "Center",
 "allowedMosaicMethods": "",
 "sortField": "",
 "sortValue": null,
 "mosaicOperator": "First",
 "defaultCompressionQuality": 75,
 "defaultResamplingMethod": "Bilinear",
 "maxImageHeight": 4100,
 "maxImageWidth": 15000,
 "allowRasterFunction": true,
 "rasterFunctionInfos": [
  {
   "name": "None",
   "description": "",
   "help": ""
  }
 ],
 "rasterTypeInfos": [
  {
   "name": "Raster Dataset",
   "description": "Supports all ArcGIS Raster Datasets",
   "help": ""
  }
 ],
 "mensurationCapabilities": "Basic",
 "hasHistograms": true,
 "hasColormap": false,
 "hasRasterAttributeTable": false,
 "minScale": 0,
 "maxScale": 0,
 "exportTilesAllowed": false,
 "hasMultidimensions": false,
 "supportsStatistics": false,
 "supportsAdvancedQueries": false,
 "editFieldsInfo": null,
 "ownershipBasedAccessControlForRasters": null,
 "allowComputeTiePoints": false,
 "useStandardizedQueries": true,
 "advancedQueryCapabilities": {
  "useStandardizedQueries": true,
  "supportsStatistics": false,
  "supportsOrderBy": false,
  "supportsDistinct": false,
  "supportsPagination": false
 },
 "spatialReference": {
  "wkid": 103023,
  "latestWkid": 6443
 }
}
