View In:
ArcGIS JavaScript
ArcGIS Online Map Viewer
ArcGIS Earth
ArcMap
View Footprint In:
ArcGIS Online Map Viewer
Service Description: 2016 Aerial for Pinellas County
Name: ArcGISImageServices/Pinellas_NAD83_2016
Description: 2016 Aerial for Pinellas County
Single Fused Map Cache: false
Extent:
XMin: 375000
YMin: 1175000
XMax: 475000
YMax: 1400000
Spatial Reference: 103023
(6443)
Initial Extent:
XMin: 375000
YMin: 1175000
XMax: 475000
YMax: 1400000
Spatial Reference: 103023
(6443)
Full Extent:
XMin: 375000
YMin: 1175000
XMax: 475000
YMax: 1400000
Spatial Reference: 103023
(6443)
Pixel Size X: 0.5
Pixel Size Y: 0.5
Band Count: 3
Pixel Type: U8
RasterFunction Infos: {"rasterFunctionInfos": [{
"name": "None",
"description": "",
"help": ""
}]}
Mensuration Capabilities: Basic
Has Histograms: true
Has Colormap: false
Has Multi Dimensions : false
Rendering Rule:
Min Scale: 0
Max Scale: 0
Copyright Text: City of Clearwater
Service Data Type: esriImageServiceDataTypeRGB
Min Values: 0, 41, 0
Max Values: 255, 255, 255
Mean Values: 170.12411873840463, 175.75565862708743, 155.69146567718005
Standard Deviation Values: 71.41770302322742, 66.6278830944093, 82.44804504199571
Object ID Field:
Fields:
None
Default Mosaic Method: Center
Allowed Mosaic Methods:
SortField:
SortValue: null
Mosaic Operator: First
Default Compression Quality: 75
Default Resampling Method: Bilinear
Max Record Count: null
Max Image Height: 4100
Max Image Width: 15000
Max Download Image Count: null
Max Mosaic Image Count: null
Allow Raster Function: true
Allow Compute TiePoints: false
Supports Statistics: false
Supports Advanced Queries: false
Use StandardizedQueries: true
Raster Type Infos:
Name: Raster Dataset
Description: Supports all ArcGIS Raster Datasets
Help:
Has Raster Attribute Table: false
Edit Fields Info: null
Ownership Based AccessControl For Rasters: null
Child Resources:
Info
Histograms
Key Properties
Legend
MultiDimensionalInfo
rasterFunctionInfos
Supported Operations:
Export Image
Identify
Measure
Compute Histograms
Compute Statistics Histograms
Get Samples
Compute Class Statistics
Query Boundary